BEGIN:VCALENDAR
VERSION:2.0
PRODID:-//BMW Club Deutschland e.V. - ECPv6.15.20//NONSGML v1.0//EN
CALSCALE:GREGORIAN
METHOD:PUBLISH
X-ORIGINAL-URL:http://bmw-club-deutschland.de
X-WR-CALDESC:Veranstaltungen für BMW Club Deutschland e.V.
REFRESH-INTERVAL;VALUE=DURATION:PT1H
X-Robots-Tag:noindex
X-PUBLISHED-TTL:PT1H
BEGIN:VTIMEZONE
TZID:Europe/Berlin
BEGIN:DAYLIGHT
TZOFFSETFROM:+0100
TZOFFSETTO:+0200
TZNAME:CEST
DTSTART:20250330T010000
END:DAYLIGHT
BEGIN:STANDARD
TZOFFSETFROM:+0200
TZOFFSETTO:+0100
TZNAME:CET
DTSTART:20251026T010000
END:STANDARD
BEGIN:DAYLIGHT
TZOFFSETFROM:+0100
TZOFFSETTO:+0200
TZNAME:CEST
DTSTART:20260329T010000
END:DAYLIGHT
BEGIN:STANDARD
TZOFFSETFROM:+0200
TZOFFSETTO:+0100
TZNAME:CET
DTSTART:20261025T010000
END:STANDARD
BEGIN:DAYLIGHT
TZOFFSETFROM:+0100
TZOFFSETTO:+0200
TZNAME:CEST
DTSTART:20270328T010000
END:DAYLIGHT
BEGIN:STANDARD
TZOFFSETFROM:+0200
TZOFFSETTO:+0100
TZNAME:CET
DTSTART:20271031T010000
END:STANDARD
END:VTIMEZONE
BEGIN:VEVENT
DTSTART;VALUE=DATE:20260424
DTEND;VALUE=DATE:20260427
DTSTAMP:20260424T193437
CREATED:20260316T114156Z
LAST-MODIFIED:20260316T220327Z
UID:1390-1776988800-1777247999@bmw-club-deutschland.de
SUMMARY:DMV Goodyear Racing-Days Oschersleben
DESCRIPTION:
URL:http://bmw-club-deutschland.de/event/dmv-goodyear-racing-days-2/
LOCATION:Motorsport Arena Oschersleben\, Oschersleben\, Germany
CATEGORIES:Auto,Motorsport,Wettbewerb
END:VEVENT
BEGIN:VEVENT
DTSTART;VALUE=DATE:20260426
DTEND;VALUE=DATE:20260427
DTSTAMP:20260424T193437
CREATED:20260223T075441Z
LAST-MODIFIED:20260223T085044Z
UID:1226-1777161600-1777247999@bmw-club-deutschland.de
SUMMARY:Anlassen 2026 Nürburgring
DESCRIPTION:Am 26.04.2026 ist es wieder soweit! \nMit Unmengen begeisterter Motorradfans wird das traditionelle „Anlassen“ erneut zum emotionalen Auftakt in die Zweiradsaison. Der Nürburgring wird sich in ein röhrendes Herz der Motorradszene verwandeln: Das Fahrerlager\, die AMG-Arena und die Grand-Prix-Strecke werden bis auf den letzten Platz gefüllt sein. \nEin ökumenischer Gottesdienst wird für einen besinnlichen Moment sorgen\, bevor der legendäre Korso über die Nordschleife Gänsehautstimmung entfacht. Geführte Ausfahrten\, eindrucksvolle Safety-Demonstrationen und mitreißende Live-Musik werden das Rahmenprogramm prägen und den Besuchern unvergessliche Augenblicke bescheren. \n\nDatum: 26.04.2026\nOrt: Nürburgring (GP-Strecke\, Nordschleife\, Fahrerlager)\nHighlights: Ökumenischer Gottesdienst\, legendäre Parade auf der Nordschleife\nProgramm: Ausfahrten\, Shows\, Live-Musik\n\nDer Event gilt als emotionaler Start in die Zweiradsaison\, bei dem der Nürburgring zum Treffpunkt der Motorradszene wird. Weitere Informationen und der genaue Zeitplan werden meist über die offiziellen Nürburgring-Kanäle >>  bekannt gegeben.
URL:http://bmw-club-deutschland.de/event/anlassen-2026-nuerburgring/
LOCATION:Nürburgring\, Nürburg\, Germany
CATEGORIES:Event,Motorrad,Treffen
ATTACH;FMTTYPE=image/png:http://bmw-club-deutschland.de/wp-content/uploads/2026/02/Logo_Nuerburgring_Circuit.svg_-e1771833267815.png
END:VEVENT
END:VCALENDAR