BEGIN:VCALENDAR
VERSION:2.0
PRODID:-//BMW Club Deutschland e.V. - ECPv6.15.20//NONSGML v1.0//EN
CALSCALE:GREGORIAN
METHOD:PUBLISH
X-WR-CALNAME:BMW Club Deutschland e.V.
X-ORIGINAL-URL:http://bmw-club-deutschland.de
X-WR-CALDESC:Veranstaltungen für BMW Club Deutschland e.V.
REFRESH-INTERVAL;VALUE=DURATION:PT1H
X-Robots-Tag:noindex
X-PUBLISHED-TTL:PT1H
BEGIN:VTIMEZONE
TZID:Europe/Berlin
BEGIN:DAYLIGHT
TZOFFSETFROM:+0100
TZOFFSETTO:+0200
TZNAME:CEST
DTSTART:20260329T010000
END:DAYLIGHT
BEGIN:STANDARD
TZOFFSETFROM:+0200
TZOFFSETTO:+0100
TZNAME:CET
DTSTART:20261025T010000
END:STANDARD
BEGIN:DAYLIGHT
TZOFFSETFROM:+0100
TZOFFSETTO:+0200
TZNAME:CEST
DTSTART:20270328T010000
END:DAYLIGHT
BEGIN:STANDARD
TZOFFSETFROM:+0200
TZOFFSETTO:+0100
TZNAME:CET
DTSTART:20271031T010000
END:STANDARD
BEGIN:DAYLIGHT
TZOFFSETFROM:+0100
TZOFFSETTO:+0200
TZNAME:CEST
DTSTART:20280326T010000
END:DAYLIGHT
BEGIN:STANDARD
TZOFFSETFROM:+0200
TZOFFSETTO:+0100
TZNAME:CET
DTSTART:20281029T010000
END:STANDARD
END:VTIMEZONE
BEGIN:VEVENT
DTSTART;VALUE=DATE:20270625
DTEND;VALUE=DATE:20270628
DTSTAMP:20260425T140023
CREATED:20260118T212859Z
LAST-MODIFIED:20260118T213150Z
UID:331-1813881600-1814140799@bmw-club-deutschland.de
SUMMARY:35 Jahre BMW Motorradclub Frankfurt/Main e.V.
DESCRIPTION:Wir feiern mit Euch gemeinsam unser 35-jähriges Jubiläum mit einer einzigartigen Motorradveranstaltung in Eschau. Treffe Gleichgesinnte\, erlebe spannende Ausfahrten in den Spessart und genieße die Gemeinschaft von BMW-Enthusiasten an einem unvergesslichen Tag. Die Details zur Anmeldung werden rechtzeitig bekanntgegeben!
URL:http://bmw-club-deutschland.de/event/35-jahre-bmw-motorradclub-frankfurt-main-e-v/
LOCATION:Gasthaus & Pension Waldfrieden\, Wildensee 74\, Eschau\, 63863\, Germany
CATEGORIES:Jubiläum,Motorrad
END:VEVENT
END:VCALENDAR