BEGIN:VCALENDAR
VERSION:2.0
PRODID:-//BMW Club Deutschland e.V. - ECPv6.15.20//NONSGML v1.0//EN
CALSCALE:GREGORIAN
METHOD:PUBLISH
X-WR-CALNAME:BMW Club Deutschland e.V.
X-ORIGINAL-URL:http://bmw-club-deutschland.de
X-WR-CALDESC:Veranstaltungen für BMW Club Deutschland e.V.
REFRESH-INTERVAL;VALUE=DURATION:PT1H
X-Robots-Tag:noindex
X-PUBLISHED-TTL:PT1H
BEGIN:VTIMEZONE
TZID:Europe/Berlin
BEGIN:DAYLIGHT
TZOFFSETFROM:+0100
TZOFFSETTO:+0200
TZNAME:CEST
DTSTART:20250330T010000
END:DAYLIGHT
BEGIN:STANDARD
TZOFFSETFROM:+0200
TZOFFSETTO:+0100
TZNAME:CET
DTSTART:20251026T010000
END:STANDARD
BEGIN:DAYLIGHT
TZOFFSETFROM:+0100
TZOFFSETTO:+0200
TZNAME:CEST
DTSTART:20260329T010000
END:DAYLIGHT
BEGIN:STANDARD
TZOFFSETFROM:+0200
TZOFFSETTO:+0100
TZNAME:CET
DTSTART:20261025T010000
END:STANDARD
BEGIN:DAYLIGHT
TZOFFSETFROM:+0100
TZOFFSETTO:+0200
TZNAME:CEST
DTSTART:20270328T010000
END:DAYLIGHT
BEGIN:STANDARD
TZOFFSETFROM:+0200
TZOFFSETTO:+0100
TZNAME:CET
DTSTART:20271031T010000
END:STANDARD
END:VTIMEZONE
BEGIN:VEVENT
DTSTART;TZID=Europe/Berlin:20260501T090000
DTEND;TZID=Europe/Berlin:20260501T230000
DTSTAMP:20260424T211354
CREATED:20260408T053040Z
LAST-MODIFIED:20260423T072337Z
UID:1628-1777626000-1777676400@bmw-club-deutschland.de
SUMMARY:10. Int. BMW Club Tag 2026
DESCRIPTION:(Italienische Übersetzung weiter unten/Traduzione in italiano di seguito) \nSeit der Initiative des BCIC im Jahr 2017 und einer Wiederholung in 2018 einmal im Jahr einen „Internationalen Clubtag“ zu feiern\, wird vom BMW Club Garmisch-Partenkirchen & Oberland e.V. diese Tradition gepflegt – leider nur noch in kleinem Kreis\, denn mangels genügend Feedback seitens der Clubs wurde das Projekt vom BCIC/BCCM für 2019 ff. eingestellt. \nAber zum 10. Jubiläum wollen wir das Thema nochmal groß aufgreifen und werden schauen\, was daraus wird 😉 … \nWir treffen uns zum Auftakt \nzwischen 09:00 und 10:00 Uhr\nin der Sunset Bar in Pacengo\n(Via Porto\, 37017 Lazise VR\, Italien). \n \nBeim „Colazione dei Campioni“ lernen sich die Teilnehmer und das „La Dolce Vita“ kennen  und anschließend blasen wir zum „Angriff“ auf den Monte Baldo. Am Abend werden wir in Lazise gemütlich zusammensitzen und den Tag bei Wein\, Pizza & Pasta sowie viel Spaß und Humor nochmal durchleben. Meistens entstehen hier die besten Pläne für künftige Aktivitäten. \nDas Ganze ist unverbindlich und der Versuch einen Teil der internationalen Club-Gemeinschaft zusammen zu bringen. Also seid einfach dabei und kommt rechtzeitig am 01.05.26 an die Sunset Bar (öffnet um 09:00 Uhr) … wir sind gespannt\, wer dem Ruf folgt und freuen uns auf einen tollen „Int. BMW Club Tag“ und möglichst vielen Freunden aus Nah und Fern … \nRückfragen und weitere Infos gerne jederzeit unter info@bmw-club-gap.de mit dem Betreff „Int. BMW Club Tag 2026″ \n\nFin dall’iniziativa del BCIC nel 2017\, e dalla sua ripetizione nel 2018\, di celebrare una „Giornata Internazionale dei Club“ annuale\, il BMW Club Garmisch-Partenkirchen & Oberland e.V. ha mantenuto questa tradizione – purtroppo\, solo su piccola scala\, poiché il BCIC/BCCM ha interrotto il progetto per il 2019 e gli anni successivi a causa della scarsa partecipazione dei club. \nMa per il decimo anniversario\, vogliamo riprendere l’argomento in grande stile e vedere cosa ne viene fuori 😉 … \nCi incontreremo per l’evento di apertura \ntra le 9:00 e le 10:00\nal Sunset Bar di Pacengo\n(Via Porto\, 37017 Lazise VR\, Italia). \nAlla „Colazione dei Campioni“\, i partecipanti avranno modo di conoscersi e vivere „La Dolce Vita“\, dopodiché lanceremo il nostro „attacco“ al Monte Baldo. In serata\, ci ritroveremo a Lazise per rivivere la giornata tra vino\, pizza\, pasta e tanto divertimento e risate. È qui che di solito nascono i migliori progetti per le attività future. \nQuesto è un evento informale\, un tentativo di riunire una parte della comunità internazionale dei club. Quindi\, unitevi a noi e presentatevi al Sunset Bar il 1° maggio 2026 (apertura alle 9:00)… non vediamo l’ora di scoprire chi risponderà all’invito e di trascorrere una fantastica „Giornata Internazionale del BMW Club“ con quanti più amici possibili\, vicini e lontani… \nPer domande e ulteriori informazioni\, contattateci in qualsiasi momento all’indirizzo info@bmw-club-gap.de con oggetto „Giornata Internazionale del BMW Club 2026“.
URL:http://bmw-club-deutschland.de/event/10-int-bmw-club-tag-2026/
LOCATION:Pacengo\, Lazise\, Monte Baldo\, Italy
CATEGORIES:Auto,Geselligkeit,Motorrad,Treffen
ATTACH;FMTTYPE=image/webp:http://bmw-club-deutschland.de/wp-content/uploads/2026/04/20230415_134259-2048x1536-1.webp
ORGANIZER;CN="BMW Club Garmisch-Partenkirchen & Oberland e.V.":MAILTO:info@bmw-club-gap.de
END:VEVENT
BEGIN:VEVENT
DTSTART;VALUE=DATE:20260508
DTEND;VALUE=DATE:20260511
DTSTAMP:20260424T211354
CREATED:20260326T115129Z
LAST-MODIFIED:20260326T120335Z
UID:1477-1778198400-1778457599@bmw-club-deutschland.de
SUMMARY:CLASS ONE Revivals 2026
DESCRIPTION:Zum 10-jährigen Bestehen der Tourenwagen Golden Ära zünden BMW Classic und die Tourenwagen Classics GmbH ein motorsportliches Feuerwerk: In einer exklusiven Kooperation wird das „Golden Ära CLASS ONE Revival“ im Jahr 2026 zur Bühne für die schnellsten DTM-Boliden der Jahre 1993 bis 2019. \nDas Jahr 2026 markiert einen doppelten Meilenstein: Während die Tourenwagen-Serie ihr erstes Jahrzehnt feiert\, blickt BMW auf 40 Jahre M3-Geschichte zurück. Ein besonderes Highlight der Partnerschaft ist die Rückkehr des legendären Klasse 1 BMW M3\, mit dem Bruno Spengler im Jahr 2012 den DTM-Titel nach München holte. \nStimmen zur Partnerschaft: \n„Ich freue mich sehr auf die Kooperation mit der Tourenwagen Classics GmbH. Sie bietet gerade im BMW M3 Jubiläumsjahr den idealen Rahmen\, um diese für uns so herausragende Motorsport-Ära wieder lebendig zu machen“\, so Andreas Ederer\, BMW Classic Motorsport Chef. \n\n\n\nRalph Bahr\, Serien-Organisator\, ergänzt: „Es ist eine besondere Ehre\, BMW Classic als Partner gewonnen zu haben. Es ist die Krönung jahrelanger Arbeit um die Pflege der BMW-Motorsportgeschichte. Dank gilt auch den Historischen Veranstaltern\, ohne die das CLASS ONE Revival und die Tourenwagen Golden Ära gar nicht erst möglich wären“.Die Termine des CLASS ONE Revivals 2026: \n\n\n\n• 08.–10. Mai 2026: ADAC Hockenheim Historic \n• 07.–09. August 2026: BELMOT Oldtimer Grand Prix \n\n• 28.–30. August 2026: Red Bull Ring Classics \nZudem findet von 12.-15. Juni ein Corso im Rahmen der „Klassikwelt Bodensee“ in der Messe Friedrichshafen statt. \nNeben dem Einsatz des Spengler-M3 dürfen sich Fans auf weitere „Schmankerl“ aus der BMW Classic Garage freuen. Wer am Steuer der Meister-Legende von 2012 sitzen wird\, bleibt vorerst ein gut gehütetes Geheimnis. \n(Quellen: Text – Ralph Bahr\, Bilder – BMW Classic)
URL:http://bmw-club-deutschland.de/event/class-one-revivals-2026/
LOCATION:Hockenheimring\, Am Motodrom 1\, Hockenheim\, 68766\, Germany
CATEGORIES:Auto,Event,Motorsport
ATTACH;FMTTYPE=image/jpeg:http://bmw-club-deutschland.de/wp-content/uploads/2026/03/657882150_925743967036690_9088154515184576772_n.jpg
END:VEVENT
BEGIN:VEVENT
DTSTART;VALUE=DATE:20260514
DTEND;VALUE=DATE:20260518
DTSTAMP:20260424T211354
CREATED:20260316T110540Z
LAST-MODIFIED:20260316T111714Z
UID:1377-1778716800-1779062399@bmw-club-deutschland.de
SUMMARY:Tuning World Bodensee
DESCRIPTION:Nach dem aktuellen Besucherrekord von 112.000 begeisterten Tuning- und Auto-Fans starten wir 2026 mit frischer Energie und neuem Team weiter durch! Freut Euch auf eine komplett neue Hallenanordnung\, die Zusammenlegung der gewerblichen Bereiche\, neue Themen und atemberaubende Shows. \nHier trifft Leidenschaft auf Business. Die TUNING WORLD BODENSEE ist die perfekte Bühne\, um Marken erlebbar zu machen\, neue Kunden zu gewinnen und bestehende Netzwerke zu stärken. Und das mitten in einer der schönsten und kaufkräftigsten Regionen Europas. \nThemen & Highlights\nBock auf krasse Karren\, fette Umbauten und echte Szene-Highlights? Dann ab zur TUNING WORLD BODENSEE! Erlebe getunte Import-Granaten\, exklusive Showcars in der Style Mile oder die Battles beim legendären EUROPEAN TUNING SHOWDOWN. In Friedrichshafen jagt eine Show die andere und die Szene feiert.\n\nVon einzigartigen Shows und spektakulären Umbauten bis hin zu hochgradig modifizierten Import-Fahrzeugen: Lass dich auf der TUNING WORLD BODENSEE von der Faszination Tuning mitreißen. Nutze die Gelegenheit\, den EUROPEAN TUNING SHOWDOWN (ETS) live zu erleben – den europaweit gefeierten Wettbewerb\, der für pure Emotionen steht und höchsten Respekt in der Szene genießt. Ein starker Business Hub mit seinem kommerziellen Angebot rund um Autos\, Parts\, Technik und Lifestyle genießt zudem hohen Stellenwert bei den Besuchern. \nErlebe auf der TUNING WORLD BODENSEE Themenhallen\, die es nur hier gibt – von brachialen US-Cars bis zu stylischen asiatischen Imports. Triff leidenschaftliche Clubs und entdecke ihre ausgefallenen Fahrzeuge. Und feiere mit uns 50 Jahre Golf GTI in einer Halle voller Ikonen! In unserer PRIVATE CAR AREA triffst du auf echte Leidenschaft: handverlesene Privatfahrzeuge\, die dich mit ihrer persönlichen Note inspirieren werden.
URL:http://bmw-club-deutschland.de/event/tuning-world-bodensee/
LOCATION:Messe Friedrichshafen\, Friedrichshafen\, Germany
CATEGORIES:Messe
ATTACH;FMTTYPE=image/png:http://bmw-club-deutschland.de/wp-content/uploads/2026/03/logo-Tuningworld-Bodensee.png
ORGANIZER;CN="Messe Friedrichshafen GmbH":MAILTO:info@messe-fn.de
END:VEVENT
BEGIN:VEVENT
DTSTART;VALUE=DATE:20260515
DTEND;VALUE=DATE:20260518
DTSTAMP:20260424T211354
CREATED:20260109T172504Z
LAST-MODIFIED:20260109T173158Z
UID:46-1778803200-1779062399@bmw-club-deutschland.de
SUMMARY:24h Nürburgring 2026 - United by Performance
DESCRIPTION:  \nErlebe das legendärste Langstreckenrennen der Welt – exklusiv mit BMW M.\n2025 schrieb BMW M einmal mehr Motorsport Geschichte: Nach einem intensiven\, von Wetter\, Strategie und purem Durchhaltevermögen geprägten Rennverlauf feierte BMW M einen spektakulären Sieg beim 24-Stunden-Rennen am Nürburgring. 2026 wollen wir mit unserer Community zusammen dies noch einmal schaffen. Mit einem absolutem Highlight\, ikonischen Fahrzeugen\, dem 40 jährigen Geburtstag des BMW M3 und einer exklusiven Hospitality im Fahrerlager schaffen wir Erlebnisse an der Nordschleife. \nSei dabei\, wenn die Motorsportgeschichte weitergeschrieben wird. \nAlle Infos direkt hier >>
URL:http://bmw-club-deutschland.de/event/24h-nuerburgring-2026-united-by-performance/
LOCATION:Nürburgring\, Nürburg\, Germany
CATEGORIES:Motorsport
ATTACH;FMTTYPE=image/webp:http://bmw-club-deutschland.de/wp-content/uploads/2026/01/20251218134021_24h_NBR-e1767979909723.webp
END:VEVENT
BEGIN:VEVENT
DTSTART;VALUE=DATE:20260515
DTEND;VALUE=DATE:20260518
DTSTAMP:20260424T211354
CREATED:20260326T083318Z
LAST-MODIFIED:20260326T091008Z
UID:1465-1778803200-1779062399@bmw-club-deutschland.de
SUMMARY:Concorso d’Eleganza Villa d’Este
DESCRIPTION:Mit seiner reichen Tradition\, der exklusiven Atmosphäre und der wachsenden Zahl junger Autoliebhaber bleibt der „Concorso d’Eleganza Villa d’Este“ ein absolutes Highlight im Automobilkalender. Entdecken Sie\, was dieses legendäre Treffen so einzigartig macht. \n \nConcorso d’Eleganza Villa d’Este – Wo Tradition auf Zukunft trifft.\nManche Veranstaltungen sind schlichtweg legendär – und der Concorso d’Eleganza Villa d’Este gehört zweifellos dazu. Seit 1929 versammelt dieses prestigeträchtige Treffen die seltensten und schönsten Automobile der Welt am Ufer des Comer Sees. Was als Feier klassischer Fahrzeuge begann\, hat sich über die Jahre weiterentwickelt. Heute stehen hochmoderne Konzeptfahrzeuge neben historischen Schätzen im Mittelpunkt. Eine automobile Reise mit modernem Touch. Jedes Jahr werden über 50 außergewöhnliche Automobile sorgfältig ausgewählt\, um das Gelände der historischen Villa d’Este zu schmücken. Von Vorkriegsmeisterwerken mit aufwendigen Karosserien bis hin zu Hochleistungs-Supercars der 1990er-Jahre – die Modellvielfalt wächst stetig. Kein Wunder\, dass der Concorso sich zu einem Hotspot für eine neue Generation von Autoenthusiasten\, Designliebhabern und jungen Lifestyle- und Auto-Influencern entwickelt hat. Er schlägt die Brücke zwischen zeitloser Eleganz und modernem Design. \nAMICI & AUTOMOBILI – WHEELS & WEISSWÜRSCHT\nParallel zum Concorso d’Eleganza Villa d’Este findet in der malerischen Parklandschaft der Villa Erba am Comer See eine ganz besondere Ausgabe der beliebten Veranstaltung „Wheels & Weißwürscht“ statt. Unter dem Motto „Cars\, Drinks\, Food & Passion“ lädt die BMW Group Classic Automobilbegeisterte ein\, in entspannter Atmosphäre legendäre Automobile zu feiern. \nObwohl BMW der Gastgeber ist\, sind Modelle von Automobilclubs und Gemeinschaften aller Marken aus ganz Europa herzlich willkommen. Neben mehr als 100 ausgestellten Automobilen können die Besucher italienische Spezialitäten\, bayerische Schmankerl – inklusive Weißwurst – sowie Getränke von verschiedenen Foodtrucks genießen. \nDas Community-Event am Comer See Öffnungszeiten: 10:00 bis 15:00 Uhr* \nDie Veranstaltung am Samstag ist allen Autoliebhabern und Freunden der Automobilkultur gewidmet. Am ersten öffentlichen Tag des Wochenendes bietet der Park der Villa Erba eine prachtvolle Kulisse für Amici & Automobili\, ein leidenschaftliches Treffen der internationalen Automobil-Community. Der Name ist Programm – das Format bietet eine charmante Neuinterpretation der legendären Cars & Coffee-Events. \n\nDie Ticketpreise beginnen bei 13\,00 € (ermäßigt\, zzgl. Servicegebühr).\nDer gesamte Erlös aus dem Ticketverkauf kommt der Stadt Cernobbio zugute und unterstützt verschiedene Kinderaktivitäten und -projekte.\nErmäßigte Tickets gelten für: Erwachsene ab 65 Jahren (mit gültigem Ausweis)\, Studierende (mit gültigem Ausweis) und Menschen mit Behinderung (mit gültigem Ausweis) sowie deren Begleitperson.\nKindertickets gelten für Kinder und Jugendliche von 6 bis 17 Jahren. Kinder von 0 bis 5 Jahren benötigen keine Eintrittskarte.\n\n*Bitte beachten Sie\, dass sich die Öffnungszeiten ändern können. \n\nAlle Infos findet Ihr hier >>
URL:http://bmw-club-deutschland.de/event/concorso-deleganza-villa-deste/
LOCATION:Villa d’Este\, Via Regina 40 a\, Cernobbio\, Italy
CATEGORIES:Event,Geselligkeit,Oldtimer,Youngtimer
ATTACH;FMTTYPE=image/jpeg:http://bmw-club-deutschland.de/wp-content/uploads/2026/03/Logo-Concorso-dEleganza.jpg
END:VEVENT
BEGIN:VEVENT
DTSTART;TZID=Europe/Berlin:20260523T090000
DTEND;TZID=Europe/Berlin:20260523T140000
DTSTAMP:20260424T211354
CREATED:20260324T170802Z
LAST-MODIFIED:20260324T181144Z
UID:1426-1779526800-1779544800@bmw-club-deutschland.de
SUMMARY:Wheels & Weißwürscht Mai 2026
DESCRIPTION:Hoch das Garagentor und raus mit eurem gepflegten Klassiker – egal ob auf zwei oder vier Rädern. Dreht doch mal wieder eine Genussrunde und besucht die BMW Group Classic. \nVon Mai bis September öffnet die Group Classic an ausgewählten Samstagen ihre Tore und lädt Euch unter dem Motto: „Wheels & Weißwürscht“ herzlich ein\, dabei zu sein. \n  \n \nKommt her und schaut\, was es bei da alles zu entdecken gibt: Ihr dürft von 10.00 – 12.00 Uhr in die Fahrzeughalle und einen Blick auf so manche Rarität werfen. Und dann ist ja noch die spannende Frage\, mit welchen Klassikern ihr kommt. Darauf ist „die Classic“ selbst schon sehr gespannt. \n \nJeder Besucher\, der mit einem Old- oder Youngtimer heranrollt\, erhält einen Gutschein für zwei Weißwürscht und eine Brezn vom Catering Partner Käfer. Natürlich sind Motorräder und Autos aller Marken herzlich willkommen! Wir haben nur begrenzte Stellplätze\, aber nach einer kleinen „Ehrenrunde“ hat noch jeder Oldtimer / Youngtimer einen Platz und seine Weißwurscht bei uns bekommen. \n\n\n\nAlso\, auf geht’s. Der Weg ist das Ziel – und wenn’s am Ziel auch noch Wheels & Weißwürscht gibt\, ist’s ja umso schöner. \nDie Group Classic und das BCCM freuen sich auf Euch. \nAchtung – wichtiger Hinweis: Damit weiterhin die notwendige Genehmigung von der Stadt München erteilt wird\, ist es sehr wichtig\, dass alle Geh-\, Rad- und Buswege sowie Einfahrten freigehalten werden! Danke!
URL:http://bmw-club-deutschland.de/event/wheels-weisswuerscht-mai26/
LOCATION:Café Mo66\, Moosacher Straße 66\, München\, Bayern\, 80809\, Germany
CATEGORIES:Auto,Geselligkeit,Motorrad,Oldtimer,Youngtimer
ATTACH;FMTTYPE=image/jpeg:http://bmw-club-deutschland.de/wp-content/uploads/2026/03/BMW_Group_Classic_Website_WuW_gross.jpg
END:VEVENT
BEGIN:VEVENT
DTSTART;VALUE=DATE:20260529
DTEND;VALUE=DATE:20260601
DTSTAMP:20260424T211354
CREATED:20260316T114156Z
LAST-MODIFIED:20260316T220558Z
UID:1394-1780012800-1780271999@bmw-club-deutschland.de
SUMMARY:DMV Goodyear Racing-Days Nürburgring
DESCRIPTION:
URL:http://bmw-club-deutschland.de/event/dmv-goodyear-racing-days-3/
LOCATION:Nürburgring\, Nürburg\, Germany
CATEGORIES:Auto,Motorsport,Wettbewerb
END:VEVENT
BEGIN:VEVENT
DTSTART;TZID=Europe/Berlin:20260529T170000
DTEND;TZID=Europe/Berlin:20260531T160000
DTSTAMP:20260424T211354
CREATED:20260311T070226Z
LAST-MODIFIED:20260415T203704Z
UID:1349-1780074000-1780243200@bmw-club-deutschland.de
SUMMARY:3. Rehdener BMW und MINI Treffen
DESCRIPTION:Ab dem 29.5.2026 heißt es wieder „Rehden ist nur einmal im Jahr“. Dann veranstalten wir das 3. Rehdener BMW und MINI Treffen. \nAnreisen kann man am 29.5.2026 ab 17 Uhr. Camping ist erwünscht. Feiert mit uns am Freitag bei einem kleinen Umtrunk in geselliger Runde. Haupttag ist der Samstag 30.5.26 ab 8 Uhr bis ca. 17 Uhr mit Pokale „Best of Platz“ und weiteren Überraschungen. Hüpfburg und Kinder Olympiade\, Tombola zugunsten des Kinderhospiz Löwenherz in Syke. Für Speis und Trank wurde bestens gesorgt\, zu moderaten Preisen. Eintritt 15€ pro Fahrzeug. Motorrad 10€. Keine extra Kosten für Fahrzeugbewertungen mit Aussicht auf einen Pokal. Die Platz Regeln sind beim Befahren des Grundstücks einsehbar und einzuhalten. Sonntag 31.5.2026 kein offizielles Programm. Nur ausschlafen\, das Frühstück genießen\, was man bei der Einfahrt bitte vorbestellen möchte\, dann das Wochenende entspannt ausklingen lassen. \nWir freuen uns auf Euren Besuch
URL:http://bmw-club-deutschland.de/event/3-rehdener-bmw-und-mini-treffen/
LOCATION:Rheden\, Lohauserstr. 13\, Rehden\, 49453\, Germany
CATEGORIES:Auto,Motorrad,Show & Shine,Treffen
ORGANIZER;CN="BMW Club Westfalen-Ruhr":MAILTO:bmwclubwestfalenruhr@web.de
END:VEVENT
BEGIN:VEVENT
DTSTART;VALUE=DATE:20260530
DTEND;VALUE=DATE:20260531
DTSTAMP:20260424T211354
CREATED:20260204T164438Z
LAST-MODIFIED:20260204T172538Z
UID:1023-1780099200-1780185599@bmw-club-deutschland.de
SUMMARY:Wunderlich Anfahrt 2026
DESCRIPTION:Der Termin steht – Bitte merken Sie sich jetzt schon das Datum der Wunderlich Anfahrt 2026 vor! \nFreuen Sie sich auf unser großes Motorradfest in der Eifel mit entspannter Bikeratmosphäre\, Partnermeile\, Food-Trucks und unser Line-Up voll ausgestatteter BMW-Modelle\, Ducati Multistrada V2 & V4\, Ducati DesertX und Harley-Davidson Pan America. \nUnser Store\, Test-Center und Suspension-Center sind geöffnet! \nWeitere Infos folgen hier >>
URL:http://bmw-club-deutschland.de/event/wunderlich-anfahrt-2026/
LOCATION:Wunderlich HQ\, Joseph-von-Fraunhofer-Str. 6-8\, Grafschaft-Ringen\, 53501\, Germany
CATEGORIES:Event,Motorrad,Tour/Ausfahrt
ATTACH;FMTTYPE=image/jpeg:http://bmw-club-deutschland.de/wp-content/uploads/2026/01/Wunderlich-4.jpg
ORGANIZER;CN="Wunderlich GmbH":MAILTO:info@wunderlich.de
END:VEVENT
BEGIN:VEVENT
DTSTART;TZID=Europe/Berlin:20260530T100000
DTEND;TZID=Europe/Berlin:20260530T230000
DTSTAMP:20260424T211354
CREATED:20260110T134539Z
LAST-MODIFIED:20260121T170754Z
UID:119-1780135200-1780182000@bmw-club-deutschland.de
SUMMARY:24. Int. BMW Treffen des BMW Team Tauber
DESCRIPTION:Bewertet werden alle Fahrzeuge die bis 14 Uhr auf dem Veranstaltungsgelände sind. \nWir wollen mal wieder Nord Süd Ost und West vereinen auf einem Event. Alte und Neue Gesichter der Tuning Szene. \n15€ pro Auto ohne Bewertung. Inklusive Teilnahme an der Gutscheinverlosung!! Kleines Gastgeschenk inklusive. \nFußgänger\, Beifahrer und Besucher Frei!!! 20€ Pro Auto mit Bewertung \n  \nEin Wochenend Ticket ist für jeden BMW Fahrer natürlich gleich am Samstag mit zu erwerben ein Weg 2 Treffen. \n\nBeide Treffen mit Bewertung wären dann 35€ oder\nBeide Treffen ohne Bewertung wären dann 25€ fürs Wochenendticket.\n\n  \nPokalverleihung mit über 171Pokalen (siehe Pokalliste) \nBewertet wird in Kategorien. \n\nPokal für die Miss BMW Treffen Gollhofen geht nach wissen Rund um die Weiß Blaue Marke.\nPokal für den Mister BMW Treffen Gollhofen geht nach wissen Rund um die Weiß Blaue Marke.\nPokal für die Clubspiele .\nPokal für den größten Club.\nPokal für die Weiteste Anreise.\nWir freuen uns Jedes Jahr über die Teilnehmer aus der Schweiz\, Niederlande\, Österreich\, Luxemburg u.s.w.\nDen jeder vom Ausland angereiste Teilnehmer zahlt bei unserem Treffen nur die Hälfte Eintritt.\nPokale für dB Auspuff und Hifi Anlage.\nUnser Pokal für die schlimmste Panne des Tages.\n(Unser kleiner PoKahl)\n\nVerlosung von Austeller Gutscheinen unter allen Teilnehmern. \nDen ganzen Tag Moderation und Showcar Vorstellung. \nOldtimerecke: Alles war schon da vom 02\, e9\, e3\, Glas Coupe\, Barockengel bis zum M1und Z8 oder Isetta. \nHändlermeile \nKartbahn\, Spielothek alles ein paar Schritte Entfernt. \nZelten erlaubt -Duschen sind vor Ort. \nFür Speisen und Getränke ist bestens gesorgt. \nInfos unter Facebook Gruppe Treffen Gollhofen \n(BMW TEAM TAUBER) \nBmw-Tauber@web.de \nMit den Betreten/Befahren erklärt sich der Teilnehmer mit der folgenden Platzordnung einverstanden. \n\nParkverbote sind einzuhalten und die StVO ist im gesamten Industriegebiet und auf dem Gelände des Treffens unbedingt einzuhalten.\nAuf dem Gelände gilt Schritttempo!\n„Burnouts“ sind zu unterlassen!\nDas Fahren unter Alkohol-/Drogeneinfluss auf dem Gelände ist untersagt\, ebenso das Mitführen von Waffen und Feuerwerkskörpern.\nWir können keinerlei Haftung für Schäden jeglicher Art an Personen und Fahrzeugen sowie Diebstahl übernehmen.\nDie Teilnahme an der Veranstaltung findet auf eigene Gefahr statt!\nEltern haften für ihre Kinder und haben diese entsprechend zu beaufsichtigen.\nFür Hunde gilt auf dem Gelände Leinenpflicht. (Die Hinterlassenschaften eures Hundes sind von euch selbst prompt zu entsorgen.)\n\nWir bitten euch des weiteren\, euren Müll in die dafür vorgesehenen Behälter zu entsorgen und ausschließlich die sanitären Anlagen zu benutzen. \nJeder Besucher darf Bilder und Videos erstellen. Die Nutzungsrecht dieser liegen beim jeweiligen Ersteller der Film- bzw. Bildaufnahmen. \nJeder Teilnehmer erklärt hierzu unwiderruflich sein Einverständnis. \nSollte die Sicherheit und Ordnung gefährdet sein\, behalten wir uns das Recht vor\, Platzverweise auszusprechen. \nDas Konsumieren von Cannabis ist während der Veranstaltung untersagt. \nDrohnenflieger müssen sich vor der Veranstaltung\, bei dem Veranstalter anmelden mit Vorzeigen den nötigen Schriftstücke ggf. Führerschein. Nicht angemeldete Drohnen werden des Platzes verwiesen. \n171 St. Gesamtpokalliste BMW Treffen\n\nE 21 3 St. Team 1\nE 30 (alle) 15 St. Team 3\nE 36 (alle) 15 St. Team 5\nE46 (alle) 15 St. Team 6\nE 9X (alle) 15 St. Team 2\nE 12 1 St. Team 1\nE 28 u. E28 M5 2 St. Team 1\nE 34u. E34 M5 u. Touring 6 St. Team 7\nE39 u.E39 M5 u. Touring 6St. Team7\nE 60/E61u.M5 9 St. Team 7\nZ Modelle\n(alle außer F) 6 St. Team 5\nSonderumbauten 1St. Team 1\n(Pick Up u.s.w.)\n02er u. Oldtimer 2St. Team 1\nE23 2 St. Team 1\nE 24 2 St. Team 1\nE31 2 St. Team 7\nE 32 2 St. Team 7\nE 38 2 St. Team 7\nE 65 1 St. Team 7\nE63 6er E64 6er 2 St. Team 7\n1er E Alle\n1er F Alle\n2er F Alle 14 St. Team 8\nX Modelle alle\n(außer F) 2 St. Team 2\nMini r Modelle (alle) 2St. Team 2\nMini F Modelle 2 St. Team 4\nF u.G Modelle\nM2\,M3\,M4 5St. Team 4\nF u. G Modelle\n3er u. 4er 5St. Team 4\nF u. G Modelle\n5er u.M5 u. 6er u.8er 4St. Team4\nF\,G u. U Modelle\nX Modelle 3 St. Team 4\nAlpina´s\nvon E bis G 3 St. Team 2\nBest of Show. 3 St. Team 3\nBest of Db\nAuspuff 7 Stück\nBest of Db Auspuff\nDiesel 1 Stück\nBest of Db Hifi 6 Stück\nWeiteste Anreise(D) 1 Stück\nWeiteste Anreise vom Ausland 1 Stück\nGrößter Club 1 Stück\nClubspiele 1 Stück\nDer kleine Pokahl\n(Pechvogelpokal) 1 Stück\nMiss BMW 1 Stück\nMister BMW 1 Stück\n\n  \nAutopokale 149 St. \nSonderpokale 22 St. \n  \nSo was erwartet euch am 23.Bmw Treffen an der Eni Service Station \n15€ pro Auto ohne Bewertung \nInklusive Teilnahme an der Gutscheinverlosung!! \nKleines Gastgeschenk inklusive. \nFußgänger\, Beifahrer und Besucher Frei!!! \n20€ Pro Auto mit Bewertung \nFußgänger\, Beifahrer und Besucher Frei!!! \nInklusive Teilnahme an der Gutscheinverlosung!! \nKleines Gastgeschenk inklusive. \nEin Wochenend Ticket ist für jeden BMW Fahrer natürlich gleich am Samstag mit zu erwerben ein Weg 2 Treffen. \nDer vom Ausland angereiste Teilnehmer zahlen die Hälfte Einfahrtsgebühr. \n  \nDb Messung Auspuff und Hifi von SPL Schuller der uns jetzt schon sehr lange Treu begleitet \nFür die Messungen gibt es Pokale u. \nin den Einzelnen Fahrzeugkategorien (siehe Pokalliste)bei den Infos ca.171 Pokale in E\,F\,G\,U\,J u. R Reihen \nMiss und Mister BMW Treffen Gollhofen wird mit einem Theoriebogen ermittelt der an der Bühne auszufüllen ist. \nDa rauchen die Köpfe den es muss ohne Mr. Google gehen 😉. \nHändler und Ausstellermeile (siehe Liste) \nUnter allen Teilnehmern werden Gutscheine Verlost die unsere Austeller zur Verfügung stellen. \nAn der Stelle jedem Austeller der zur Verlosung beiträgt ein großes Dankeschön. \nFürs leibliche Wohl ist wie immer bestens gesorgt. \nWie jedes Jahr versuchen Wir pünktlich um 16Uhr mit der Pokalverleihung zu beginnen. \nBesucher können gerne im Industriegebiet Parken. Weniger anzeigen
URL:http://bmw-club-deutschland.de/event/24-int-bmw-treffen-des-bmw-team-tauber/
LOCATION:Industriegebiet Gollhofen\, Industriestraße 3\, Ippesheim\, 97258\, Germany
CATEGORIES:Auto,Show & Shine,Treffen
END:VEVENT
END:VCALENDAR