BEGIN:VCALENDAR
VERSION:2.0
PRODID:-//BMW Club Deutschland e.V. - ECPv6.15.20//NONSGML v1.0//EN
CALSCALE:GREGORIAN
METHOD:PUBLISH
X-WR-CALNAME:BMW Club Deutschland e.V.
X-ORIGINAL-URL:http://bmw-club-deutschland.de
X-WR-CALDESC:Veranstaltungen für BMW Club Deutschland e.V.
REFRESH-INTERVAL;VALUE=DURATION:PT1H
X-Robots-Tag:noindex
X-PUBLISHED-TTL:PT1H
BEGIN:VTIMEZONE
TZID:Europe/Berlin
BEGIN:DAYLIGHT
TZOFFSETFROM:+0100
TZOFFSETTO:+0200
TZNAME:CEST
DTSTART:20250330T010000
END:DAYLIGHT
BEGIN:STANDARD
TZOFFSETFROM:+0200
TZOFFSETTO:+0100
TZNAME:CET
DTSTART:20251026T010000
END:STANDARD
BEGIN:DAYLIGHT
TZOFFSETFROM:+0100
TZOFFSETTO:+0200
TZNAME:CEST
DTSTART:20260329T010000
END:DAYLIGHT
BEGIN:STANDARD
TZOFFSETFROM:+0200
TZOFFSETTO:+0100
TZNAME:CET
DTSTART:20261025T010000
END:STANDARD
BEGIN:DAYLIGHT
TZOFFSETFROM:+0100
TZOFFSETTO:+0200
TZNAME:CEST
DTSTART:20270328T010000
END:DAYLIGHT
BEGIN:STANDARD
TZOFFSETFROM:+0200
TZOFFSETTO:+0100
TZNAME:CET
DTSTART:20271031T010000
END:STANDARD
BEGIN:DAYLIGHT
TZOFFSETFROM:+0100
TZOFFSETTO:+0200
TZNAME:CEST
DTSTART:20280326T010000
END:DAYLIGHT
BEGIN:STANDARD
TZOFFSETFROM:+0200
TZOFFSETTO:+0100
TZNAME:CET
DTSTART:20281029T010000
END:STANDARD
END:VTIMEZONE
BEGIN:VEVENT
DTSTART;VALUE=DATE:20260904
DTEND;VALUE=DATE:20260907
DTSTAMP:20260424T223243
CREATED:20260113T234945Z
LAST-MODIFIED:20260316T105252Z
UID:271-1788480000-1788739199@bmw-club-deutschland.de
SUMMARY:10. RTTH BMW Treffen
DESCRIPTION: 
URL:http://bmw-club-deutschland.de/event/10-rtth-bmw-treffen/
LOCATION:Stausee Immelborn Barchfeld\, Immelborn\, Germany
CATEGORIES:Auto,Show & Shine,Treffen
END:VEVENT
BEGIN:VEVENT
DTSTART;TZID=Europe/Berlin:20260905T090000
DTEND;TZID=Europe/Berlin:20260905T140000
DTSTAMP:20260424T223243
CREATED:20260324T170802Z
LAST-MODIFIED:20260324T180823Z
UID:1456-1788598800-1788616800@bmw-club-deutschland.de
SUMMARY:Wheels & Weißwürscht September 2026 (#1)
DESCRIPTION:Hoch das Garagentor und raus mit eurem gepflegten Klassiker – egal ob auf zwei oder vier Rädern. Dreht doch mal wieder eine Genussrunde und besucht die BMW Group Classic. \nVon Mai bis September öffnet die Group Classic an ausgewählten Samstagen ihre Tore und lädt Euch unter dem Motto: „Wheels & Weißwürscht“ herzlich ein\, dabei zu sein. \n  \n \nKommt her und schaut\, was es bei da alles zu entdecken gibt: Ihr dürft von 10.00 – 12.00 Uhr in die Fahrzeughalle und einen Blick auf so manche Rarität werfen. Und dann ist ja noch die spannende Frage\, mit welchen Klassikern ihr kommt. Darauf ist „die Classic“ selbst schon sehr gespannt. \n \nJeder Besucher\, der mit einem Old- oder Youngtimer heranrollt\, erhält einen Gutschein für zwei Weißwürscht und eine Brezn vom Catering Partner Käfer. Natürlich sind Motorräder und Autos aller Marken herzlich willkommen! Wir haben nur begrenzte Stellplätze\, aber nach einer kleinen „Ehrenrunde“ hat noch jeder Oldtimer / Youngtimer einen Platz und seine Weißwurscht bei uns bekommen. \n\n\n\nAlso\, auf geht’s. Der Weg ist das Ziel – und wenn’s am Ziel auch noch Wheels & Weißwürscht gibt\, ist’s ja umso schöner. \nDie Group Classic und das BCCM freuen sich auf Euch. \nAchtung – wichtiger Hinweis: Damit weiterhin die notwendige Genehmigung von der Stadt München erteilt wird\, ist es sehr wichtig\, dass alle Geh-\, Rad- und Buswege sowie Einfahrten freigehalten werden! Danke!
URL:http://bmw-club-deutschland.de/event/wheels-weisswuerscht-sep26-1/
LOCATION:Café Mo66\, Moosacher Straße 66\, München\, Bayern\, 80809\, Germany
CATEGORIES:Auto,Geselligkeit,Motorrad,Oldtimer,Youngtimer
ATTACH;FMTTYPE=image/jpeg:http://bmw-club-deutschland.de/wp-content/uploads/2026/03/BMW_Group_Classic_Website_WuW_gross.jpg
END:VEVENT
BEGIN:VEVENT
DTSTART;VALUE=DATE:20260908
DTEND;VALUE=DATE:20260914
DTSTAMP:20260424T223243
CREATED:20260223T170619Z
LAST-MODIFIED:20260223T172041Z
UID:1244-1788825600-1789343999@bmw-club-deutschland.de
SUMMARY:European Bike Week 2026
DESCRIPTION:Die European Bike Week am Faaker See ist eines der berühmtesten Motorradtreffen der Welt. Jahr für Jahr im September\, kostenlos und für jedermann zugänglich und ein wahres Mekka für Harley-Davidson-Fans. Die Veranstaltung lockt jährlich hunderttausende Motorradfans unterschiedlichster Marken und “Styles” an den türkisblauen Faaker See in Kärnten\, Österreich. Mit einem breiten Angebot an Tages- und Abendunterhaltung\, kostenlosen Demofahrten mit den neuesten Harley-Davidson-Motorrädern\, Motorradausstellungen\, Speisen und Getränken\, Shopping und vielem mehr ist abwechslung garantiert. \n\n			\n				\n			\n			\n				\n			\n		\n\nUnter dem Motto #BackToTheRoads wird es auch 2026 wieder ein spannendes Begleitprogramm rund um die European Bike Week geben. Alle Informationen dazu findest Du ab Sommer 2026 auf dieser Seite –> https://www.bikeweek.at/ \nNächste Termine\n\n08. – 13. September 2026\n07. – 12. September 2027\n05. – 10. September 2028\n04. – 09. September 2029\n\n(Quelle Bild und Text: bikeweek.at) 
URL:http://bmw-club-deutschland.de/event/european-bike-week-2026/
LOCATION:Faaker See\, Faak am See
CATEGORIES:Event,Messe,Motorrad,Treffen
ATTACH;FMTTYPE=image/webp:http://bmw-club-deutschland.de/wp-content/uploads/2026/02/c-harley-davidson-18-e1771867147398.webp
END:VEVENT
BEGIN:VEVENT
DTSTART;VALUE=DATE:20260912
DTEND;VALUE=DATE:20260913
DTSTAMP:20260424T223243
CREATED:20260312T083805Z
LAST-MODIFIED:20260312T090649Z
UID:1362-1789171200-1789257599@bmw-club-deutschland.de
SUMMARY:Airfield Runway Revival 2026
DESCRIPTION:
URL:http://bmw-club-deutschland.de/event/airfield-runway-revival-2026/
CATEGORIES:Event
ATTACH;FMTTYPE=image/jpeg:http://bmw-club-deutschland.de/wp-content/uploads/2026/03/Screenshot_20260312_092819_Facebook-1-e1773306388921.jpg
END:VEVENT
BEGIN:VEVENT
DTSTART;TZID=Europe/Berlin:20260919T090000
DTEND;TZID=Europe/Berlin:20260919T140000
DTSTAMP:20260424T223243
CREATED:20260324T170802Z
LAST-MODIFIED:20260324T180746Z
UID:1458-1789808400-1789826400@bmw-club-deutschland.de
SUMMARY:Wheels & Weißwürscht September 2026 (#2)
DESCRIPTION:Hoch das Garagentor und raus mit eurem gepflegten Klassiker – egal ob auf zwei oder vier Rädern. Dreht doch mal wieder eine Genussrunde und besucht die BMW Group Classic. \nVon Mai bis September öffnet die Group Classic an ausgewählten Samstagen ihre Tore und lädt Euch unter dem Motto: „Wheels & Weißwürscht“ herzlich ein\, dabei zu sein. \n  \n \nKommt her und schaut\, was es bei da alles zu entdecken gibt: Ihr dürft von 10.00 – 12.00 Uhr in die Fahrzeughalle und einen Blick auf so manche Rarität werfen. Und dann ist ja noch die spannende Frage\, mit welchen Klassikern ihr kommt. Darauf ist „die Classic“ selbst schon sehr gespannt. \n \nJeder Besucher\, der mit einem Old- oder Youngtimer heranrollt\, erhält einen Gutschein für zwei Weißwürscht und eine Brezn vom Catering Partner Käfer. Natürlich sind Motorräder und Autos aller Marken herzlich willkommen! Wir haben nur begrenzte Stellplätze\, aber nach einer kleinen „Ehrenrunde“ hat noch jeder Oldtimer / Youngtimer einen Platz und seine Weißwurscht bei uns bekommen. \n\n\n\nAlso\, auf geht’s. Der Weg ist das Ziel – und wenn’s am Ziel auch noch Wheels & Weißwürscht gibt\, ist’s ja umso schöner. \nDie Group Classic und das BCCM freuen sich auf Euch. \nAchtung – wichtiger Hinweis: Damit weiterhin die notwendige Genehmigung von der Stadt München erteilt wird\, ist es sehr wichtig\, dass alle Geh-\, Rad- und Buswege sowie Einfahrten freigehalten werden! Danke!
URL:http://bmw-club-deutschland.de/event/wheels-weisswuerscht-sep26-2/
LOCATION:Café Mo66\, Moosacher Straße 66\, München\, Bayern\, 80809\, Germany
CATEGORIES:Auto,Geselligkeit,Motorrad,Oldtimer,Youngtimer
ATTACH;FMTTYPE=image/jpeg:http://bmw-club-deutschland.de/wp-content/uploads/2026/03/BMW_Group_Classic_Website_WuW_gross.jpg
END:VEVENT
BEGIN:VEVENT
DTSTART;VALUE=DATE:20260925
DTEND;VALUE=DATE:20260928
DTSTAMP:20260424T223243
CREATED:20260316T114156Z
LAST-MODIFIED:20260316T220853Z
UID:1399-1790294400-1790553599@bmw-club-deutschland.de
SUMMARY:DMV Goodyear Racing-Days Lausitzring
DESCRIPTION:
URL:http://bmw-club-deutschland.de/event/dmv-goodyear-racing-days-3-2-2/
LOCATION:Lausitzring\, Germany
CATEGORIES:Auto,Motorsport,Wettbewerb
END:VEVENT
BEGIN:VEVENT
DTSTART;VALUE=DATE:20260925
DTEND;VALUE=DATE:20261002
DTSTAMP:20260424T223243
CREATED:20260120T122055Z
LAST-MODIFIED:20260120T122055Z
UID:386-1790294400-1790899199@bmw-club-deutschland.de
SUMMARY:Transitalia Marathon 2026 mit Expo
DESCRIPTION:Der Motoclub Strade Bianche in Moto Asd organisiert in Zusammenarbeit mit der MINOA GROUP sas di Mirco Urbinati e c. die zwölfte Ausgabe des \n\n\nTRANSITALIA MARATHON \nvom 25. September 2026 bis zum 1. Oktober 2026.\n\n\n25.–27. September 2026: Transitalia Expo \n28. Sept. – 1. Okt. 2026: Transitalia-Marathon \nOrt: Rimini – Città di Castello (PG) – Cascia (PG) – Castel di Sangro (AQ) – Termoli (CB)\nDauer: je nach Streckenwahl\, 4 oder 5 Tage\n\nWeitere Infos >>
URL:http://bmw-club-deutschland.de/event/transitalia-marathon-2026-mit-expo/
CATEGORIES:Motorrad
ATTACH;FMTTYPE=image/jpeg:http://bmw-club-deutschland.de/wp-content/uploads/2026/01/TransItalMarathin_DSC02309.jpg
END:VEVENT
BEGIN:VEVENT
DTSTART;VALUE=DATE:20261023
DTEND;VALUE=DATE:20261026
DTSTAMP:20260424T223243
CREATED:20260316T114156Z
LAST-MODIFIED:20260316T221013Z
UID:1402-1792713600-1792972799@bmw-club-deutschland.de
SUMMARY:DMV Goodyear Racing-Days 1000-km-Hockenheim
DESCRIPTION:
URL:http://bmw-club-deutschland.de/event/dmv-goodyear-racing-days-3-2-2-2/
LOCATION:Hockenheimring\, Am Motodrom 1\, Hockenheim\, 68766\, Germany
CATEGORIES:Auto,Motorsport,Wettbewerb
END:VEVENT
BEGIN:VEVENT
DTSTART;VALUE=DATE:20270212
DTEND;VALUE=DATE:20270215
DTSTAMP:20260424T223243
CREATED:20260204T115421Z
LAST-MODIFIED:20260309T115320Z
UID:1339-1802390400-1802649599@bmw-club-deutschland.de
SUMMARY:IMOT 2027 ‒ Internationale Motorrad Ausstellung
DESCRIPTION:Vom 12. bis 14. Februar 2027 öffnet die IMOT wieder ihre Tore auf dem Messegelände München-Riem. Seit 2026 findet die Messe in drei Hallen … in der neuen IMOT-Eventhalle wird es wohl wieder ein spannendes Showprogramm mit viel Action geben. \nEbenfalls wieder am Start: Alles\, was die IMOT über die vielen Jahre stark gemacht hat – die neuesten Motorrad-Modelle\, das aktuellste Zubehör\, zahlreiche Sondershows\, Tipps und Buchungsmöglichkeiten für großartige Motorradreisen sowie ein interessantes Rahmenprogramm. Parallel zur IMOT laufen auf dem Messegelände München ebenfalls wieder die „Reise- und Freizeitmesse f.re.e“\, sowie die „Münchner Autotage“ als zweite und dritte Partnermesse. \nAlle Infos unter www.imot.de >>
URL:http://bmw-club-deutschland.de/event/imot-%e2%80%92-internationale-motorrad-ausstellung-2/
LOCATION:Messe München\, Am Messeturm\, München\, Bayern\, 81829\, Germany
CATEGORIES:Messe,Motorrad
ATTACH;FMTTYPE=image/jpeg:http://bmw-club-deutschland.de/wp-content/uploads/2026/02/imot_2023_logo-1.1200x800-ms.jpg
END:VEVENT
BEGIN:VEVENT
DTSTART;VALUE=DATE:20270219
DTEND;VALUE=DATE:20270222
DTSTAMP:20260424T223243
CREATED:20260221T180810Z
LAST-MODIFIED:20260309T120302Z
UID:1216-1802995200-1803254399@bmw-club-deutschland.de
SUMMARY:INTERMOT 2027
DESCRIPTION:Die Reise geht weiter! Gemeinsam mit der Branche hat der Veranstalter das Feedback der Besucher ernst genommen und ist bereit\, den nächsten Schritt zu tun:\n\nDie INTERMOT rückt mit Beschluss des IVM\, dem ideellen Träger und führenden Verband der deutschen Motorradbranche\, der mit gut 50 Mitgliedsunternehmen über 95 % des deutschen Motorradmarktes repräsentiert\, in Zukunft in den Februar. Bereits 2027 wird die INTERMOT vom 19. bis 21. Februar noch klarer zum Startschuss für den Auftakt der Saison. \nO-Ton: „Wenn ihr Eure Bikes aus dem Winterschlaf weckt\, euch auf die kommende Saison vorbereitet und für neue Abenteuer rüstet\, bündeln wir die Neuheiten und Trends hier vor Ort und halten die Flamme eurer Leidenschaft am Lodern. Dafür bieten wir euch alles\, was die Branche zu bieten hat. Von Zubehör und Bekleidung über Helme\, Reifen und natürlich: Motorräder. \nUnser Kurs bleibt dabei klar definiert: Wir denken die Messe als echte Netzwerkbühne mit einem vielseitigen Programm in verschiedenen Zonen und einer starken Präsenz relevanter Marken und Produkte aus allen Bereichen. Damit geben wir der INTERMOT den Drive zurück\, mit dem sie zum Fixstern der Szene wird. Und das mit dem Rückhalt der gesamten Branche.“
URL:http://bmw-club-deutschland.de/event/intermot-2027/
LOCATION:Messe Köln\, Messeplatz 1\, Köln\, 50679\, Germany
CATEGORIES:Messe,Motorrad
ATTACH;FMTTYPE=image/png:http://bmw-club-deutschland.de/wp-content/uploads/2026/02/logo_intermot_200x200.png
END:VEVENT
BEGIN:VEVENT
DTSTART;VALUE=DATE:20270315
DTEND;VALUE=DATE:20270316
DTSTAMP:20260424T223243
CREATED:20260110T170743Z
LAST-MODIFIED:20260111T212806Z
UID:156-1805068800-1805155199@bmw-club-deutschland.de
SUMMARY:30 Jahre BMW Club Deutschland e.V.
DESCRIPTION:
URL:http://bmw-club-deutschland.de/event/30-jahre-bmw-club-deutschlande-v/
CATEGORIES:Jubiläum
END:VEVENT
BEGIN:VEVENT
DTSTART;VALUE=DATE:20270625
DTEND;VALUE=DATE:20270628
DTSTAMP:20260424T223243
CREATED:20260118T212859Z
LAST-MODIFIED:20260118T213150Z
UID:331-1813881600-1814140799@bmw-club-deutschland.de
SUMMARY:35 Jahre BMW Motorradclub Frankfurt/Main e.V.
DESCRIPTION:Wir feiern mit Euch gemeinsam unser 35-jähriges Jubiläum mit einer einzigartigen Motorradveranstaltung in Eschau. Treffe Gleichgesinnte\, erlebe spannende Ausfahrten in den Spessart und genieße die Gemeinschaft von BMW-Enthusiasten an einem unvergesslichen Tag. Die Details zur Anmeldung werden rechtzeitig bekanntgegeben!
URL:http://bmw-club-deutschland.de/event/35-jahre-bmw-motorradclub-frankfurt-main-e-v/
LOCATION:Gasthaus & Pension Waldfrieden\, Wildensee 74\, Eschau\, 63863\, Germany
CATEGORIES:Jubiläum,Motorrad
END:VEVENT
END:VCALENDAR