BEGIN:VCALENDAR
VERSION:2.0
PRODID:-//BMW Club Deutschland e.V. - ECPv6.15.20//NONSGML v1.0//EN
CALSCALE:GREGORIAN
METHOD:PUBLISH
X-ORIGINAL-URL:http://bmw-club-deutschland.de
X-WR-CALDESC:Veranstaltungen für BMW Club Deutschland e.V.
REFRESH-INTERVAL;VALUE=DURATION:PT1H
X-Robots-Tag:noindex
X-PUBLISHED-TTL:PT1H
BEGIN:VTIMEZONE
TZID:Europe/Berlin
BEGIN:DAYLIGHT
TZOFFSETFROM:+0100
TZOFFSETTO:+0200
TZNAME:CEST
DTSTART:20250330T010000
END:DAYLIGHT
BEGIN:STANDARD
TZOFFSETFROM:+0200
TZOFFSETTO:+0100
TZNAME:CET
DTSTART:20251026T010000
END:STANDARD
BEGIN:DAYLIGHT
TZOFFSETFROM:+0100
TZOFFSETTO:+0200
TZNAME:CEST
DTSTART:20260329T010000
END:DAYLIGHT
BEGIN:STANDARD
TZOFFSETFROM:+0200
TZOFFSETTO:+0100
TZNAME:CET
DTSTART:20261025T010000
END:STANDARD
BEGIN:DAYLIGHT
TZOFFSETFROM:+0100
TZOFFSETTO:+0200
TZNAME:CEST
DTSTART:20270328T010000
END:DAYLIGHT
BEGIN:STANDARD
TZOFFSETFROM:+0200
TZOFFSETTO:+0100
TZNAME:CET
DTSTART:20271031T010000
END:STANDARD
END:VTIMEZONE
BEGIN:VEVENT
DTSTART;VALUE=DATE:20260419
DTEND;VALUE=DATE:20260420
DTSTAMP:20260424T210520
CREATED:20260308T205244Z
LAST-MODIFIED:20260308T205244Z
UID:1327-1776556800-1776643199@bmw-club-deutschland.de
SUMMARY:Cars & Chiemsee
DESCRIPTION:
URL:http://bmw-club-deutschland.de/event/cars-chiemsee/
LOCATION:Hafenwirt Seebruck\, Am Chiemseepark 7\, Seeon-Seebruck\, Bayern\, 83358\, Germany
CATEGORIES:Auto,Event,Treffen
END:VEVENT
BEGIN:VEVENT
DTSTART;VALUE=DATE:20260403
DTEND;VALUE=DATE:20260407
DTSTAMP:20260424T210520
CREATED:20260121T152711Z
LAST-MODIFIED:20260327T185103Z
UID:438-1775174400-1775519999@bmw-club-deutschland.de
SUMMARY:Int. BMW GS Oster-Treffen 2026
DESCRIPTION:Vom 3. bis 6. April 2026 treffen sich GS-Fahrer aus dem In- und Ausland am Schloss Widooie zum Internationalen GS-Ostertreffen. \n \nVier Tage voller Fahrspaß\, Begegnungen und Genuss – alles\, was das GS-Fahren so besonders macht: geführte Offroad-Touren\, Gymkhana\, Trainings\, Ausstellerstände\, Live-Musik und eine einzigartige Camping-Atmosphäre an einem historischen Ort. \nDu übernachtest im eigenen Zelt\, Wohnmobil oder Wohnwagen und erlebst das Osterwochenende in echter GS-Stimmung. \nWas kannst du erwarten? \n\nVerschiedene Offroad-Touren\nGymkhana und Fahrtrainings\nStände mit Essen\, Getränken und Motorradbekleidung\nLive-Musik und Abendunterhaltung\nCamping auf dem Schlossgelände\nEine internationale GS-Community in entspannter Atmosphäre\n\nFür wen? \n\nBMW-GS-Fahrer\, Mitglieder und Nichtmitglieder des BMW Motor Club Vlaanderen\nNationale und internationale Teilnehmer\nSowohl erfahrene Offroad-Fahrer als auch alle\, die die Atmosphäre genießen möchten\n\nPraktische Informationen \n\nDatum: 3.–6. April 2026\nOrt: Schloss Widooie\nÜbernachtung: Zelt\, Wohnmobil oder Wohnwagen auf dem Gelände\n\nPreise: \n✦ Paket 1: 160 € \n\nAnkunft Freitag\, 3. April\, ab 14:00 Uhr\, Abreise Montag\, 6. April\, vor 12:00 Uhr.\nAbendessen Freitag\, Frühstück & Abendessen (BBQ) Samstag\, Frühstück & Abendessen Sonntag\, Frühstück Montag.\nCamping mit Zelt oder Wohnmobil\, gesicherter Parkplatz für Anhänger.\nKostenlose Toiletten und Duschen.\n\n✦ Paket 2: 140 € \n\nAnkunft Freitag\, 3. April\, ab 14:00 Uhr\, Abreise Sonntag\, 5. April\, vor dem Abendessen.\nAbendessen Freitag\, Frühstück & Abendessen (BBQ) Samstag\, Frühstück Sonntag.\nCamping mit Zelt oder Wohnmobil\, gesicherter Parkplatz für Anhänger.\nKostenlose Toiletten und Duschen.\n\n✦ Paket 3: 140 € \n\nAnkunft Samstag\, 4. April\, Abreise Montag\, 6. April\, vor 12:00 Uhr.\nAbendessen Samstag (BBQ)\, Frühstück & Abendessen Sonntag\, Frühstück Montag.\nCamping mit Zelt oder Wohnmobil\, gesicherter Parkplatz für Anhänger.\nKostenlose Toiletten und Duschen.\n\n✦ Paket 4: 20 € \n\nAufpreis für Wohnmobile\, auf einem separaten Camper-Stellplatz.\n\n Anmeldung zum Internationalen GS-Ostertreffen 2026\nWeitere praktische Details (Programm\, Touren\, Zeitplan) folgen nach der Anmeldung.
URL:http://bmw-club-deutschland.de/event/int-bmw-gs-oster-treffen-2026/
LOCATION:Kasteel Widooie\, Kasteelweg 30\, Tongeren\, Vlaanderen\, 3700\, Belgium
CATEGORIES:Event,Motorrad,Treffen
ATTACH;FMTTYPE=image/png:http://bmw-club-deutschland.de/wp-content/uploads/2026/01/GS-Oster-Treffen-Logo-e1774637450221.png
ORGANIZER;CN="BMW MC Flandern":MAILTO:secretariaat@bmw-mc-vl.be
END:VEVENT
BEGIN:VEVENT
DTSTART;VALUE=DATE:20260327
DTEND;VALUE=DATE:20260330
DTSTAMP:20260424T210520
CREATED:20260316T114156Z
LAST-MODIFIED:20260316T220441Z
UID:1384-1774569600-1774828799@bmw-club-deutschland.de
SUMMARY:DMV Goodyear Racing-Days Hockenheim
DESCRIPTION:
URL:http://bmw-club-deutschland.de/event/dmv-goodyear-racing-days/
LOCATION:Hockenheimring\, Am Motodrom 1\, Hockenheim\, 68766\, Germany
CATEGORIES:Auto,Motorsport,Wettbewerb
END:VEVENT
BEGIN:VEVENT
DTSTART;TZID=Europe/Berlin:20260307T120000
DTEND;TZID=Europe/Berlin:20260307T163000
DTSTAMP:20260424T210520
CREATED:20260113T154901Z
LAST-MODIFIED:20260226T202940Z
UID:266-1772884800-1772901000@bmw-club-deutschland.de
SUMMARY:BMW und BMW Club GAP feiern Geburtstag
DESCRIPTION:Genau heute vor 10 Jahren wurde der BMW Club Garmisch-Partenkirchen & Oberland e.V. gegründet … und BMW selbst wird auch genau heute 110 Jahre alt! \nEin Grund zum Feiern!\n… und weil wir das nicht alleine machen wollen\, freuen wir uns auf viele interessierte BMW-Clubfreunde\, mit denen wir in München ein paar coole Stunden verbringen wollen. Außerdem haben wir noch ein Highlight\, denn in der BMW Welt schenkt sich einer von Euch heute ein ganz besonderes Fahrzeug … die Schlagworte vorab: \n💥 M2 CS 💥 MotoGP 💥 530 PS 💥 3\,8 Sek. auf 100 💥\n💥 geb. am 10.10.2025 in San Luis Potosí 💥\nDer Ablauf ist wie folgt: \n\n10:00 – 11:30 Uhr lockeres Treffen im M1 Bistro oder vor dem BMW Museum zu Benzingesprächen (Wetter soll gut werden)\n12:00 Uhr Treffen1 am Sitz der BMW Group Classic in der Moosacher Str. 66\, München\ndort Stehparty mit Gegrilltem & Drinks aus dem Foodtruck (Selbstzahler)\n13:15 Uhr „Umzug“ in die BMW Welt2\nab 13:30 Uhr Sammeln zur Fahrzeugübergabe3\n13:50 Uhr – Highlight des Tages: Fahrzeug-Auslieferung mit Fotoshooting in der BMW Welt\nanschließend Besichtigung BMW Welt (Freeflight)\, ggf. Kaffee-Einkehr im Cooper’s Garden in der BMW Welt3 und anschl. Heimfahrt in eigener Zuständigkeit\n\nWegen der Kapazitätsplanung bitte dringend anmelden unter 10JahreGAP@bmw-club-gap.de mit Angabe \n\nName des Anmeldenden\neMail und\nHandynummer (wegen Erreichbarkeit)\nPersonenzahl\nFahrzeug mit Kennzeichen\nTeilnahme lockeres Treffen am Museum (M1 Bistro oder davor) ab 10:00 Uhr –> ja/nein\nTeilnahme ComeTogether in der Classic um 12:00 Uhr –> ja/nein\nTeilnahme Fahrzeugauslieferung in der Welt um 13:50 Uhr –> ja/nein\n\nAnmerkungen/Fussnoten:\n1 bitte pünktlich kommen\, denn wir haben hier nur eine gute Stunde Zeit!\n2 reine Fahrzeit 10 Minuten\, Parken vor Ort in eigener Zuständigkeit\n3 Details zur Location gehen rechtzeitig an die angemeldeten Teilnehmer raus \n(Bildnachweis: BMW M-GmbH)
URL:http://bmw-club-deutschland.de/event/save-the-date/
LOCATION:Café Mo66\, Moosacher Straße 66\, München\, Bayern\, 80809\, Germany
CATEGORIES:Event,Jubiläum
ATTACH;FMTTYPE=image/jpeg:http://bmw-club-deutschland.de/wp-content/uploads/2026/01/WhatsApp-Image-2025-08-17-at-14.24.55.jpeg
ORGANIZER;CN="BMW Club Garmisch-Partenkirchen & Oberland e.V.":MAILTO:info@bmw-club-gap.de
END:VEVENT
BEGIN:VEVENT
DTSTART;TZID=Europe/Berlin:20260305T090000
DTEND;TZID=Europe/Berlin:20260308T180000
DTSTAMP:20260424T210520
CREATED:20260204T121337Z
LAST-MODIFIED:20260204T121449Z
UID:1015-1772701200-1772992800@bmw-club-deutschland.de
SUMMARY:Motorräder Dortmund
DESCRIPTION:Erlebe den Saisonauftakt auf der MOTORRÄDER DORTMUND\nVom 5. bis 8. März wartet in Dortmund alles\, was dein Biker-Herz höherschlagen lässt: die neuesten Modelle\, frisches Zubehör\, coole Trends\, innovative Technik und starke Marken zum Anfassen. \nOb Einsteiger oder Profi – hier findest du alles rund ums Bike. \nTeste\, entdecke\, vernetze dich – und starte perfekt in die neue Saison.\nJetzt Ticket sichern und dabei sein! \nAlle Infos und Ticketshop unter zweiradmessen.de >> 
URL:http://bmw-club-deutschland.de/event/motorraeder-dortmund/
LOCATION:Messe Dortmund\, Rheinlanddamm 200\, Dortmund\, 44139\, Germany
CATEGORIES:Messe,Motorrad
ATTACH;FMTTYPE=image/webp:http://bmw-club-deutschland.de/wp-content/uploads/2026/02/Logo_MR_Dortmund_RGB-750x326-1.webp
ORGANIZER;CN="Messe Dortmund GmbH":MAILTO:info@messe-dortmund.de
END:VEVENT
BEGIN:VEVENT
DTSTART;VALUE=DATE:20260227
DTEND;VALUE=DATE:20260302
DTSTAMP:20260424T210520
CREATED:20260223T173304Z
LAST-MODIFIED:20260223T173304Z
UID:1254-1772150400-1772409599@bmw-club-deutschland.de
SUMMARY:Altes Elefantentreffen 2026
DESCRIPTION:Alle Infos unter Altes Elefantentreffen.de
URL:http://bmw-club-deutschland.de/event/altes-elefantentreffen-2026/
LOCATION:Nürburgring\, Nürburg\, Germany
CATEGORIES:Motorrad,Treffen
ATTACH;FMTTYPE=image/jpeg:http://bmw-club-deutschland.de/wp-content/uploads/2026/02/altes_Elefantentreffen.jpg
ORGANIZER;CN="Altes Elefantentreffen e.V.":MAILTO:zoran@alteselefantentreffen.com
END:VEVENT
BEGIN:VEVENT
DTSTART;VALUE=DATE:20260227
DTEND;VALUE=DATE:20260302
DTSTAMP:20260424T210520
CREATED:20260206T091954Z
LAST-MODIFIED:20260206T092111Z
UID:1070-1772150400-1772409599@bmw-club-deutschland.de
SUMMARY:HMT – Hamburger Motorradtage 2026
DESCRIPTION:O-Ton Website des Veranstalters: \nWillkommen zur größten Motorradmesse in Norddeutschland! Hier dreht sich alles um Geschwindigkeit\, Leidenschaft und die neuesten Trends der Motorradwelt. Egal ob Du ein erfahrener Biker bist\, Technikbegeisterter oder einfach nur neugierig – hier findest Du alles\, was das Motorradherz höher schlagen lässt. Freu Dich auf spannende Aussteller\, exklusive Premieren und ein unvergessliches Erlebnis rund um die Faszination Motorrad. Schön\, dass Du dabei bist!
URL:http://bmw-club-deutschland.de/event/hmt-hamburger-motorradtage-2026/
LOCATION:Messe Hamburg\, Messeplatz 1\, Hamburg\, 20357\, Germany
CATEGORIES:Messe,Motorrad
ATTACH;FMTTYPE=image/jpeg:http://bmw-club-deutschland.de/wp-content/uploads/2026/02/MotorrradMesseHamburg2025.jpg
END:VEVENT
BEGIN:VEVENT
DTSTART;VALUE=DATE:20260220
DTEND;VALUE=DATE:20260223
DTSTAMP:20260424T210520
CREATED:20260204T115421Z
LAST-MODIFIED:20260221T181341Z
UID:1008-1771545600-1771804799@bmw-club-deutschland.de
SUMMARY:IMOT ‒ Internationale Motorrad Ausstellung
DESCRIPTION:Vom 20. bis 22. Februar 2026 öffnet die IMOT wieder ihre Tore auf dem Messegelände München-Riem. Erstmalig findet die Messe in drei Hallen … in der neuen IMOT-Eventhalle soll es ein spannendes Showprogramm mit viel Action geben. \nEbenfalls wieder am Start: Alles\, was die IMOT über die vielen Jahre stark gemacht hat – die neuesten Motorrad-Modelle\, das aktuellste Zubehör\, zahlreiche Sondershows\, Tipps und Buchungsmöglichkeiten für großartige Motorradreisen sowie ein interessantes Rahmenprogramm. Parallel zur IMOT laufen auf dem Messegelände München ebenfalls wieder die „Reise- und Freizeitmesse f.re.e“\, sowie nach aktueller Planung auch wieder die „Münchner Autotage“ als zweite Partnermesse. \nAlle Infos und der Ticketshop (Hinweis: Online-Tickets € 17\,00) unter www.imot.de >>
URL:http://bmw-club-deutschland.de/event/imot-%e2%80%92-internationale-motorrad-ausstellung/
LOCATION:Messe München\, Am Messeturm\, München\, Bayern\, 81829\, Germany
CATEGORIES:Messe,Motorrad
ATTACH;FMTTYPE=image/jpeg:http://bmw-club-deutschland.de/wp-content/uploads/2026/02/imot_2023_logo-1.1200x800-ms.jpg
END:VEVENT
BEGIN:VEVENT
DTSTART;VALUE=DATE:20260219
DTEND;VALUE=DATE:20260223
DTSTAMP:20260424T210520
CREATED:20260221T144712Z
LAST-MODIFIED:20260221T144712Z
UID:1213-1771459200-1771804799@bmw-club-deutschland.de
SUMMARY:Retro Classics Stuttgart 2026
DESCRIPTION:Auf dem Stuttgarter Messegelände befindet sich mit der RETRO CLASSICS® der schönste Treffpunkt für Liebhaber automobiler Legenden aus längst vergangenen Tagen ebenso wie Oldtimer-Preziosen von morgen. \nAussteller aus vielen Teilen der Welt präsentieren in einem extravaganten Ambiente kostbare und sehenswerte Raritäten aus allen Epochen der Automobilgeschichte. \nErleben Sie Nostalgie und Eleganz mit allem\, was dazu gehört: erstklassige Sonderschauen\, großer Teilemarkt und ein rasantes Rahmenprogramm.
URL:http://bmw-club-deutschland.de/event/retro-classics-stuttgart-2026/
LOCATION:Messe Stuttgart\, Messepiazza 1\, Stuttgart\, 70629\, Germany
END:VEVENT
END:VCALENDAR